BEGIN:VCALENDAR
VERSION:2.0
PRODID:-//Hidden Greens North - ECPv6.15.20//NONSGML v1.0//EN
CALSCALE:GREGORIAN
METHOD:PUBLISH
X-ORIGINAL-URL:https://hiddengreensnorth.com
X-WR-CALDESC:Events for Hidden Greens North
REFRESH-INTERVAL;VALUE=DURATION:PT1H
X-Robots-Tag:noindex
X-PUBLISHED-TTL:PT1H
BEGIN:VTIMEZONE
TZID:America/Toronto
BEGIN:DAYLIGHT
TZOFFSETFROM:-0500
TZOFFSETTO:-0400
TZNAME:EDT
DTSTART:20250309T070000
END:DAYLIGHT
BEGIN:STANDARD
TZOFFSETFROM:-0400
TZOFFSETTO:-0500
TZNAME:EST
DTSTART:20251102T060000
END:STANDARD
BEGIN:DAYLIGHT
TZOFFSETFROM:-0500
TZOFFSETTO:-0400
TZNAME:EDT
DTSTART:20260308T070000
END:DAYLIGHT
BEGIN:STANDARD
TZOFFSETFROM:-0400
TZOFFSETTO:-0500
TZNAME:EST
DTSTART:20261101T060000
END:STANDARD
BEGIN:DAYLIGHT
TZOFFSETFROM:-0500
TZOFFSETTO:-0400
TZNAME:EDT
DTSTART:20270314T070000
END:DAYLIGHT
BEGIN:STANDARD
TZOFFSETFROM:-0400
TZOFFSETTO:-0500
TZNAME:EST
DTSTART:20271107T060000
END:STANDARD
END:VTIMEZONE
BEGIN:VEVENT
DTSTART;VALUE=DATE:20260522
DTEND;VALUE=DATE:20260526
DTSTAMP:20260423T162509
CREATED:20260330T192902Z
LAST-MODIFIED:20260330T192902Z
UID:10000299-1779408000-1779753599@hiddengreensnorth.com
SUMMARY:Memorial Day Weekend
DESCRIPTION:
URL:https://hiddengreensnorth.com/event/memorial-day-weekend/
END:VEVENT
BEGIN:VEVENT
DTSTART;VALUE=DATE:20260526
DTEND;VALUE=DATE:20260528
DTSTAMP:20260423T162509
CREATED:20260226T164409Z
LAST-MODIFIED:20260226T164409Z
UID:10000296-1779753600-1779926399@hiddengreensnorth.com
SUMMARY:4th Annual HGN Jack & Jill in the Box Scramble
DESCRIPTION:4th Annual HGN Jack & Jill in the Box Scramble\nTuesday & Wednesday\, May 26 & 27\, 2026\nRain Date: May 28\nEntry Fee: $10 per golfer (green & cart fees not included)\nRegistration Deadline: Monday\, May 19\nSign up as a 4-person team\, partial team\, or single.\nFORMAT\n• 4-person teams (Men\, Women\, or Mixed)\n• Each golfer plays 4–5 holes solo to the big cup and records a net score\n• The remaining 3 teammates play a scramble to the regular cup\n• Day 2 format is the same\, with a chance to improve team scores\nHANDICAPS\nThis is a net handicap event. All players must have an official WSGA/WHS/GHIN handicap prior to play.\nHANDICAP FLIGHTS\nFlights will be determined by total team handicap\, regardless of team makeup.\nYou do NOT need to be a season pass holder or regular at Hidden Greens North to participate.\nTo register a team or ask handicap questions\, contact:\nCraig Nelson\n(preferred) Email: cnelson5726@gmail.com\nPhone: 561-847-5726\nSign up begins now — secure your spot today.
URL:https://hiddengreensnorth.com/event/4th-annual-hgn-jack-jill-in-the-box-scramble/
END:VEVENT
BEGIN:VEVENT
DTSTART;TZID=America/Toronto:20260526T100000
DTEND;TZID=America/Toronto:20260526T100000
DTSTAMP:20260423T162509
CREATED:20260409T195011Z
LAST-MODIFIED:20260409T195011Z
UID:10000310-1779789600-1779789600@hiddengreensnorth.com
SUMMARY:Jack and Jill
DESCRIPTION:
URL:https://hiddengreensnorth.com/event/jack-and-jill/2026-05-26/
END:VEVENT
BEGIN:VEVENT
DTSTART;TZID=America/Toronto:20260527T100000
DTEND;TZID=America/Toronto:20260527T100000
DTSTAMP:20260423T162509
CREATED:20260409T195011Z
LAST-MODIFIED:20260409T195011Z
UID:10000311-1779876000-1779876000@hiddengreensnorth.com
SUMMARY:Jack and Jill
DESCRIPTION:
URL:https://hiddengreensnorth.com/event/jack-and-jill/2026-05-27/
END:VEVENT
BEGIN:VEVENT
DTSTART;VALUE=DATE:20260604
DTEND;VALUE=DATE:20260605
DTSTAMP:20260423T162509
CREATED:20260409T195031Z
LAST-MODIFIED:20260409T195031Z
UID:10000312-1780531200-1780617599@hiddengreensnorth.com
SUMMARY:Early Couples League Starts
DESCRIPTION:
URL:https://hiddengreensnorth.com/event/early-couples-league-starts/
END:VEVENT
BEGIN:VEVENT
DTSTART;VALUE=DATE:20260605
DTEND;VALUE=DATE:20260606
DTSTAMP:20260423T162509
CREATED:20260330T192920Z
LAST-MODIFIED:20260330T192920Z
UID:10000300-1780617600-1780703999@hiddengreensnorth.com
SUMMARY:Friday Night Dinners Start
DESCRIPTION:
URL:https://hiddengreensnorth.com/event/friday-night-dinners-start/
END:VEVENT
BEGIN:VEVENT
DTSTART;VALUE=DATE:20260615
DTEND;VALUE=DATE:20260619
DTSTAMP:20260423T162509
CREATED:20260330T192942Z
LAST-MODIFIED:20260330T192942Z
UID:10000301-1781481600-1781827199@hiddengreensnorth.com
SUMMARY:Junior Golf Program
DESCRIPTION:
URL:https://hiddengreensnorth.com/event/junior-golf-program/
END:VEVENT
BEGIN:VEVENT
DTSTART;TZID=America/Toronto:20260615T090000
DTEND;TZID=America/Toronto:20260615T110000
DTSTAMP:20260423T162509
CREATED:20260409T195218Z
LAST-MODIFIED:20260409T195218Z
UID:10000313-1781514000-1781521200@hiddengreensnorth.com
SUMMARY:Junior Golf
DESCRIPTION:
URL:https://hiddengreensnorth.com/event/junior-golf/2026-06-15/
END:VEVENT
BEGIN:VEVENT
DTSTART;TZID=America/Toronto:20260616T090000
DTEND;TZID=America/Toronto:20260616T110000
DTSTAMP:20260423T162509
CREATED:20260409T195218Z
LAST-MODIFIED:20260409T195218Z
UID:10000314-1781600400-1781607600@hiddengreensnorth.com
SUMMARY:Junior Golf
DESCRIPTION:
URL:https://hiddengreensnorth.com/event/junior-golf/2026-06-16/
END:VEVENT
BEGIN:VEVENT
DTSTART;TZID=America/Toronto:20260617T090000
DTEND;TZID=America/Toronto:20260617T110000
DTSTAMP:20260423T162509
CREATED:20260409T195218Z
LAST-MODIFIED:20260409T195218Z
UID:10000315-1781686800-1781694000@hiddengreensnorth.com
SUMMARY:Junior Golf
DESCRIPTION:
URL:https://hiddengreensnorth.com/event/junior-golf/2026-06-17/
END:VEVENT
BEGIN:VEVENT
DTSTART;TZID=America/Toronto:20260618T090000
DTEND;TZID=America/Toronto:20260618T110000
DTSTAMP:20260423T162509
CREATED:20260409T195218Z
LAST-MODIFIED:20260409T195218Z
UID:10000316-1781773200-1781780400@hiddengreensnorth.com
SUMMARY:Junior Golf
DESCRIPTION:
URL:https://hiddengreensnorth.com/event/junior-golf/2026-06-18/
END:VEVENT
BEGIN:VEVENT
DTSTART;TZID=America/Toronto:20260709T100000
DTEND;TZID=America/Toronto:20260709T120000
DTSTAMP:20260423T162509
CREATED:20260409T195635Z
LAST-MODIFIED:20260409T195635Z
UID:10000329-1783591200-1783598400@hiddengreensnorth.com
SUMMARY:Simms Invitational
DESCRIPTION:
URL:https://hiddengreensnorth.com/event/simms-invitational-3/
END:VEVENT
BEGIN:VEVENT
DTSTART;TZID=America/Toronto:20260710T100000
DTEND;TZID=America/Toronto:20260710T120000
DTSTAMP:20260423T162509
CREATED:20260409T195636Z
LAST-MODIFIED:20260409T195636Z
UID:10000330-1783677600-1783684800@hiddengreensnorth.com
SUMMARY:Simms Invitational
DESCRIPTION:
URL:https://hiddengreensnorth.com/event/simms-invitational-4/
END:VEVENT
BEGIN:VEVENT
DTSTART;TZID=America/Toronto:20260725T120000
DTEND;TZID=America/Toronto:20260725T120000
DTSTAMP:20260423T162509
CREATED:20260409T195637Z
LAST-MODIFIED:20260409T195637Z
UID:10000331-1784980800-1784980800@hiddengreensnorth.com
SUMMARY:St Croix Headwaters 18 Hole Scramble
DESCRIPTION:
URL:https://hiddengreensnorth.com/event/st-croix-headwaters-18-hole-scramble-2/
END:VEVENT
BEGIN:VEVENT
DTSTART;TZID=America/Toronto:20260908T090000
DTEND;TZID=America/Toronto:20260908T090000
DTSTAMP:20260423T162509
CREATED:20260409T195638Z
LAST-MODIFIED:20260409T195638Z
UID:10000332-1788858000-1788858000@hiddengreensnorth.com
SUMMARY:Solhiem
DESCRIPTION:
URL:https://hiddengreensnorth.com/event/solhiem-3/
END:VEVENT
BEGIN:VEVENT
DTSTART;TZID=America/Toronto:20260909T090000
DTEND;TZID=America/Toronto:20260909T090000
DTSTAMP:20260423T162509
CREATED:20260409T195639Z
LAST-MODIFIED:20260409T195639Z
UID:10000333-1788944400-1788944400@hiddengreensnorth.com
SUMMARY:Solhiem
DESCRIPTION:
URL:https://hiddengreensnorth.com/event/solhiem-4/
END:VEVENT
BEGIN:VEVENT
DTSTART;TZID=America/Toronto:20260910T090000
DTEND;TZID=America/Toronto:20260910T090000
DTSTAMP:20260423T162509
CREATED:20260409T195643Z
LAST-MODIFIED:20260409T195643Z
UID:10000334-1789030800-1789030800@hiddengreensnorth.com
SUMMARY:Northwestern Girls Invitational
DESCRIPTION:
URL:https://hiddengreensnorth.com/event/northwestern-girls-invitational-2/
END:VEVENT
BEGIN:VEVENT
DTSTART;TZID=America/Toronto:20260912T150000
DTEND;TZID=America/Toronto:20260912T150000
DTSTAMP:20260423T162509
CREATED:20260409T195644Z
LAST-MODIFIED:20260409T195644Z
UID:10000335-1789225200-1789225200@hiddengreensnorth.com
SUMMARY:LWPAC 9 Hole Scramble
DESCRIPTION:
URL:https://hiddengreensnorth.com/event/lwpac-9-hole-scramble-2/
END:VEVENT
BEGIN:VEVENT
DTSTART;TZID=America/Toronto:20260915T090000
DTEND;TZID=America/Toronto:20260915T090000
DTSTAMP:20260423T162509
CREATED:20260409T195645Z
LAST-MODIFIED:20260409T195645Z
UID:10000336-1789462800-1789462800@hiddengreensnorth.com
SUMMARY:Ryder Cup
DESCRIPTION:
URL:https://hiddengreensnorth.com/event/ryder-cup-4/
END:VEVENT
BEGIN:VEVENT
DTSTART;TZID=America/Toronto:20260916T090000
DTEND;TZID=America/Toronto:20260916T090000
DTSTAMP:20260423T162509
CREATED:20260409T195646Z
LAST-MODIFIED:20260409T195646Z
UID:10000337-1789549200-1789549200@hiddengreensnorth.com
SUMMARY:Ryder Cup
DESCRIPTION:
URL:https://hiddengreensnorth.com/event/ryder-cup-5/
END:VEVENT
BEGIN:VEVENT
DTSTART;TZID=America/Toronto:20260919T140000
DTEND;TZID=America/Toronto:20260919T140000
DTSTAMP:20260423T162509
CREATED:20260409T195647Z
LAST-MODIFIED:20260409T195647Z
UID:10000338-1789826400-1789826400@hiddengreensnorth.com
SUMMARY:Mertz Rookie Scramble
DESCRIPTION:
URL:https://hiddengreensnorth.com/event/mertz-rookie-scramble-2/
END:VEVENT
BEGIN:VEVENT
DTSTART;VALUE=DATE:20261003
DTEND;VALUE=DATE:20261004
DTSTAMP:20260423T162509
CREATED:20260409T195659Z
LAST-MODIFIED:20260409T195849Z
UID:10000339-1790985600-1791071999@hiddengreensnorth.com
SUMMARY:Harvest Dinner
DESCRIPTION:
URL:https://hiddengreensnorth.com/event/harvest-dinner-2/
END:VEVENT
BEGIN:VEVENT
DTSTART;TZID=America/Toronto:20261121T090000
DTEND;TZID=America/Toronto:20261121T090000
DTSTAMP:20260423T162509
CREATED:20260409T195700Z
LAST-MODIFIED:20260409T195700Z
UID:10000340-1795251600-1795251600@hiddengreensnorth.com
SUMMARY:Christmas Extravaganza
DESCRIPTION:
URL:https://hiddengreensnorth.com/event/christmas-extravaganza-3/
END:VEVENT
END:VCALENDAR